OziExplorer Map Data File Version 2.2
050k--j42-012-4.gif
050k--j42-012-4.gif
1 ,Map Code,
Pulkovo 1942 (2),WGS 84, 0.0000, 0.0000,WGS 84
Reserved 1
Reserved 2
Magnetic Variation,,,E
Map Projection,Transverse Mercator,PolyCal,No,AutoCalOnly,No,BSBUseWPX,No
Point01,xy, 73, 51,in, deg, 39, 50.0000,N, 71, 45.0000,E, grid, , , ,N
Point02,xy, 1694, 97,ex, deg, 39, 50.0000,N, 71, 52.5000,E, grid, , , ,N
Point03,xy, 3438, 50,in, deg, 39, 50.0000,N, 72, 0.0000,E, grid, , , ,N
Point04,xy, 68, 1504,in, deg, 39, 45.0000,N, 71, 45.0000,E, grid, , , ,N
Point05,xy, 1753, 1504,in, deg, 39, 45.0000,N, 71, 52.5000,E, grid, , , ,N
Point06,xy, 3434, 1506,in, deg, 39, 45.0000,N, 72, 0.0000,E, grid, , , ,N
Point07,xy, 63, 2961,in, deg, 39, 40.0000,N, 71, 45.0000,E, grid, , , ,N
Point08,xy, 1694, 2926,ex, deg, 39, 40.0000,N, 71, 52.5000,E, grid, , , ,N
Point09,xy, 3433, 2962,in, deg, 39, 40.0000,N, 72, 0.0000,E, grid, , , ,N
Point10,xy, , ,in, deg, , ,N, , ,W, grid, , , ,N
Point11,xy, , ,in, deg, , ,N, , ,W, grid, , , ,N
Point12,xy, , ,in, deg, , ,N, , ,W, grid, , , ,N
Point13,xy, , ,in, deg, , ,N, , ,W, grid, , , ,N
Point14,xy, , ,in, deg, , ,N, , ,W, grid, , , ,N
Point15,xy, , ,in, deg, , ,N, , ,W, grid, , , ,N
Point16,xy, , ,in, deg, , ,N, , ,W, grid, , , ,N
Point17,xy, , ,in, deg, , ,N, , ,W, grid, , , ,N
Point18,xy, , ,in, deg, , ,N, , ,W, grid, , , ,N
Point19,xy, , ,in, deg, , ,N, , ,W, grid, , , ,N
Point20,xy, , ,in, deg, , ,N, , ,W, grid, , , ,N
Point21,xy, , ,in, deg, , ,N, , ,W, grid, , , ,N
Point22,xy, , ,in, deg, , ,N, , ,W, grid, , , ,N
Point23,xy, , ,in, deg, , ,N, , ,W, grid, , , ,N
Point24,xy, , ,in, deg, , ,N, , ,W, grid, , , ,N
Point25,xy, , ,in, deg, , ,N, , ,W, grid, , , ,N
Point26,xy, , ,in, deg, , ,N, , ,W, grid, , , ,N
Point27,xy, , ,in, deg, , ,N, , ,W, grid, , , ,N
Point28,xy, , ,in, deg, , ,N, , ,W, grid, , , ,N
Point29,xy, , ,in, deg, , ,N, , ,W, grid, , , ,N
Point30,xy, , ,in, deg, , ,N, , ,W, grid, , , ,N
Projection Setup, 0.000000000, 69.000000000, 1.000000000, 500000.00, 0.00,,,,,
Map Feature = MF ; Map Comment = MC These follow if they exist
Track File = TF These follow if they exist
Moving Map Parameters = MM? These follow if they exist
MM0,Yes
MMPNUM,4
MMPXY,1,112,97
MMPXY,2,3387,97
MMPXY,3,3387,2926
MMPXY,4,112,2926
MMPLL,1, 71.752840, 39.830618
MMPLL,2, 71.996293, 39.830646
MMPLL,3, 71.996550, 39.668684
MMPLL,4, 71.753667, 39.668637
MM1B,6.362553
MOP,Map Open Position,0,0
IWH,Map Image Width/Height,3499,3023
